BEGIN:VCALENDAR
VERSION:2.0
PRODID:-//Matte Brennerei - ECPv6.15.20//NONSGML v1.0//EN
CALSCALE:GREGORIAN
METHOD:PUBLISH
X-ORIGINAL-URL:https://mattebrennerei.ch
X-WR-CALDESC:Veranstaltungen für Matte Brennerei
REFRESH-INTERVAL;VALUE=DURATION:PT1H
X-Robots-Tag:noindex
X-PUBLISHED-TTL:PT1H
BEGIN:VTIMEZONE
TZID:Europe/Zurich
BEGIN:DAYLIGHT
TZOFFSETFROM:+0100
TZOFFSETTO:+0200
TZNAME:CEST
DTSTART:20250330T010000
END:DAYLIGHT
BEGIN:STANDARD
TZOFFSETFROM:+0200
TZOFFSETTO:+0100
TZNAME:CET
DTSTART:20251026T010000
END:STANDARD
BEGIN:DAYLIGHT
TZOFFSETFROM:+0100
TZOFFSETTO:+0200
TZNAME:CEST
DTSTART:20260329T010000
END:DAYLIGHT
BEGIN:STANDARD
TZOFFSETFROM:+0200
TZOFFSETTO:+0100
TZNAME:CET
DTSTART:20261025T010000
END:STANDARD
BEGIN:DAYLIGHT
TZOFFSETFROM:+0100
TZOFFSETTO:+0200
TZNAME:CEST
DTSTART:20270328T010000
END:DAYLIGHT
BEGIN:STANDARD
TZOFFSETFROM:+0200
TZOFFSETTO:+0100
TZNAME:CET
DTSTART:20271031T010000
END:STANDARD
END:VTIMEZONE
BEGIN:VEVENT
DTSTART;TZID=Europe/Zurich:20260502T140000
DTEND;TZID=Europe/Zurich:20260502T180000
DTSTAMP:20260424T120911
CREATED:20260114T153459Z
LAST-MODIFIED:20260303T154122Z
UID:10000874-1777730400-1777744800@mattebrennerei.ch
SUMMARY:Gin Brennworkshop
DESCRIPTION:Hast du dich schon immer gefragt\, wie Gin gebrannt wird?Kein Problem – wir nehmen dich mit in die Welt der Destillation! \nIn der theoretischen Einführung erfährst du alles über die Rohstoffe\, Herstellung und Sensorik von Gin. Anschließend entwickelst du gemeinsam mit den anderen Teilnehmenden und unseren Brennmeisterinnen eine eigene Gin-Rezeptur. Während des gesamten Brennvorgangs kannst du unseren Expertinnen über die Schulter schauen und den Entstehungsprozess hautnah miterleben. \nNatürlich darf der Genuss nicht zu kurz kommen:✔ Begrüßung mit einem Apérogetränk und Knabbereien✔ Degustation aller Gin-Produkte während des Kurses✔ Ein erfrischender Longdrink während des Workshops \nZum krönenden Abschluss verkosten wir den frisch gebrannten Gin\, und du nimmst ein Fläschchen eurer eigenen Kreation mit nach Hause. \nDAUER: 4 StundenTEILNEHMERZAHL: Unsere Brennworkshops finden in Kleingruppen mit maximal 10 Personen statt.ANFAHRT: Da während des Kurses degustiert wird\, empfehlen wir eine Anreise ohne Auto.\nVORBEREITUNG: Wir empfehlen vor dem Kurs etwas zu Essen. \nFreu dich auf ein einzigartiges Erlebnis voller Aromen\, Handwerkskunst und Genuss! 🍸
URL:https://mattebrennerei.ch/event/gin-brennworkshop-13/
LOCATION:Matte Brennerei\, Mühleplatz 5\, Bern\, 3011\, Switzerland
CATEGORIES:öffentlicher Brenn Workshop
ATTACH;FMTTYPE=image/jpeg:https://mattebrennerei.ch/wp-content/uploads/2018/10/AM305151-scaled-e1754901169290.jpg
ORGANIZER;CN="Matte Brennerei":MAILTO:info@mattebrennerei.ch
END:VEVENT
BEGIN:VEVENT
DTSTART;TZID=Europe/Zurich:20260507T200000
DTEND;TZID=Europe/Zurich:20260507T223000
DTSTAMP:20260424T120911
CREATED:20260114T142706Z
LAST-MODIFIED:20260114T142706Z
UID:10000867-1778184000-1778193000@mattebrennerei.ch
SUMMARY:Gin Experience
DESCRIPTION:Bei unserer Gin Experience lernst du die Matte Brennerei und Ihre Produkte kennen. Wir zeigen dir wie Gin hergestellt wird und mit welchen Botanicals wir arbeiten. Gemeinsam degustieren wir all unsere Gins und du lernst wie man leckere Drinks aus diesen herstellt\, natürlich trinken wir diese auch. \nGIN EXPERIENCE – GIN TASTING – LONGDRINK – COCKTAIL \nDAUER: 2.5 Stunden\nTEILNEHMER: Der Event findet in Kleingruppen statt\, mit bis zu 15 Personen\nANFAHRT: Wir empfehlen nicht mit dem Auto zu kommen.\nVORBEREITUNG: Essen sie vor der Gin Experience etwas.
URL:https://mattebrennerei.ch/event/gin-experience-11/
LOCATION:Matte Brennerei\, Mühleplatz 5\, Bern\, 3011\, Switzerland
CATEGORIES:öffentliche Gin Experience
ATTACH;FMTTYPE=image/jpeg:https://mattebrennerei.ch/wp-content/uploads/2025/07/Matte-Brennerei-Landing-Page-Gin-Experience.jpg
ORGANIZER;CN="Matte Brennerei":MAILTO:info@mattebrennerei.ch
END:VEVENT
BEGIN:VEVENT
DTSTART;TZID=Europe/Zurich:20260513T190000
DTEND;TZID=Europe/Zurich:20260513T230000
DTSTAMP:20260424T120911
CREATED:20260114T154029Z
LAST-MODIFIED:20260114T154116Z
UID:10000875-1778698800-1778713200@mattebrennerei.ch
SUMMARY:Gin Brennworkshop (vor Auffahrt)
DESCRIPTION:Hast du dich schon immer gefragt\, wie Gin gebrannt wird?Kein Problem – wir nehmen dich mit in die Welt der Destillation! \nIn der theoretischen Einführung erfährst du alles über die Rohstoffe\, Herstellung und Sensorik von Gin. Anschließend entwickelst du gemeinsam mit den anderen Teilnehmenden und unseren Brennmeisterinnen eine eigene Gin-Rezeptur. Während des gesamten Brennvorgangs kannst du unseren Expertinnen über die Schulter schauen und den Entstehungsprozess hautnah miterleben. \nNatürlich darf der Genuss nicht zu kurz kommen:✔ Begrüßung mit einem Apérogetränk und Knabbereien✔ Degustation aller Gin-Produkte während des Kurses✔ Ein erfrischender Longdrink während des Workshops \nZum krönenden Abschluss verkosten wir den frisch gebrannten Gin\, und du nimmst ein Fläschchen eurer eigenen Kreation mit nach Hause. \nDAUER: 4 StundenTEILNEHMERZAHL: Unsere Brennworkshops finden in Kleingruppen mit maximal 10 Personen statt.ANFAHRT: Da während des Kurses degustiert wird\, empfehlen wir eine Anreise ohne Auto.\nVORBEREITUNG: Wir empfehlen vor dem Kurs etwas zu Essen. \nFreu dich auf ein einzigartiges Erlebnis voller Aromen\, Handwerkskunst und Genuss! 🍸
URL:https://mattebrennerei.ch/event/gin-brennworkshop-vor-auffahrt/
LOCATION:Matte Brennerei\, Mühleplatz 5\, Bern\, 3011\, Switzerland
CATEGORIES:öffentlicher Brenn Workshop
ATTACH;FMTTYPE=image/jpeg:https://mattebrennerei.ch/wp-content/uploads/2018/10/AM305151-scaled-e1754901169290.jpg
ORGANIZER;CN="Matte Brennerei":MAILTO:info@mattebrennerei.ch
END:VEVENT
BEGIN:VEVENT
DTSTART;TZID=Europe/Zurich:20260521T200000
DTEND;TZID=Europe/Zurich:20260521T223000
DTSTAMP:20260424T120911
CREATED:20260114T142854Z
LAST-MODIFIED:20260422T085905Z
UID:10000868-1779393600-1779402600@mattebrennerei.ch
SUMMARY:Gin Experience
DESCRIPTION:Bei unserer Gin Experience lernst du die Matte Brennerei und Ihre Produkte kennen. Wir zeigen dir wie Gin hergestellt wird und mit welchen Botanicals wir arbeiten. Gemeinsam degustieren wir all unsere Gins und du lernst wie man leckere Drinks aus diesen herstellt\, natürlich trinken wir diese auch. \nGIN EXPERIENCE – GIN TASTING – LONGDRINK – COCKTAIL \nDAUER: 2.5 Stunden\nTEILNEHMER: Der Event findet in Kleingruppen statt\, mit bis zu 15 Personen\nANFAHRT: Wir empfehlen nicht mit dem Auto zu kommen.\nVORBEREITUNG: Essen sie vor der Gin Experience etwas.
URL:https://mattebrennerei.ch/event/gin-experience-12/
LOCATION:Matte Brennerei\, Mühleplatz 5\, Bern\, 3011\, Switzerland
CATEGORIES:öffentliche Gin Experience
ATTACH;FMTTYPE=image/jpeg:https://mattebrennerei.ch/wp-content/uploads/2025/07/Matte-Brennerei-Landing-Page-Gin-Experience.jpg
ORGANIZER;CN="Matte Brennerei":MAILTO:info@mattebrennerei.ch
END:VEVENT
BEGIN:VEVENT
DTSTART;TZID=Europe/Zurich:20260605T190000
DTEND;TZID=Europe/Zurich:20260605T230000
DTSTAMP:20260424T120911
CREATED:20260114T160712Z
LAST-MODIFIED:20260114T160749Z
UID:10000876-1780686000-1780700400@mattebrennerei.ch
SUMMARY:Gin Brennworkshop
DESCRIPTION:Hast du dich schon immer gefragt\, wie Gin gebrannt wird?Kein Problem – wir nehmen dich mit in die Welt der Destillation! \nIn der theoretischen Einführung erfährst du alles über die Rohstoffe\, Herstellung und Sensorik von Gin. Anschließend entwickelst du gemeinsam mit den anderen Teilnehmenden und unseren Brennmeisterinnen eine eigene Gin-Rezeptur. Während des gesamten Brennvorgangs kannst du unseren Expertinnen über die Schulter schauen und den Entstehungsprozess hautnah miterleben. \nNatürlich darf der Genuss nicht zu kurz kommen:✔ Begrüßung mit einem Apérogetränk und Knabbereien✔ Degustation aller Gin-Produkte während des Kurses✔ Ein erfrischender Longdrink während des Workshops \nZum krönenden Abschluss verkosten wir den frisch gebrannten Gin\, und du nimmst ein Fläschchen eurer eigenen Kreation mit nach Hause. \nDAUER: 4 StundenTEILNEHMERZAHL: Unsere Brennworkshops finden in Kleingruppen mit maximal 10 Personen statt.ANFAHRT: Da während des Kurses degustiert wird\, empfehlen wir eine Anreise ohne Auto.\nVORBEREITUNG: Wir empfehlen vor dem Kurs etwas zu Essen. \nFreu dich auf ein einzigartiges Erlebnis voller Aromen\, Handwerkskunst und Genuss! 🍸
URL:https://mattebrennerei.ch/event/gin-brennworkshop-05-06-26/
LOCATION:Matte Brennerei\, Mühleplatz 5\, Bern\, 3011\, Switzerland
CATEGORIES:öffentlicher Brenn Workshop
ATTACH;FMTTYPE=image/jpeg:https://mattebrennerei.ch/wp-content/uploads/2018/10/AM305151-scaled-e1754901169290.jpg
ORGANIZER;CN="Matte Brennerei":MAILTO:info@mattebrennerei.ch
END:VEVENT
BEGIN:VEVENT
DTSTART;TZID=Europe/Zurich:20260613T140000
DTEND;TZID=Europe/Zurich:20260613T180000
DTSTAMP:20260424T120911
CREATED:20260114T160937Z
LAST-MODIFIED:20260327T092305Z
UID:10000877-1781359200-1781373600@mattebrennerei.ch
SUMMARY:Gin Brennworkshop
DESCRIPTION:Hast du dich schon immer gefragt\, wie Gin gebrannt wird?Kein Problem – wir nehmen dich mit in die Welt der Destillation! \nIn der theoretischen Einführung erfährst du alles über die Rohstoffe\, Herstellung und Sensorik von Gin. Anschließend entwickelst du gemeinsam mit den anderen Teilnehmenden und unseren Brennmeisterinnen eine eigene Gin-Rezeptur. Während des gesamten Brennvorgangs kannst du unseren Expertinnen über die Schulter schauen und den Entstehungsprozess hautnah miterleben. \nNatürlich darf der Genuss nicht zu kurz kommen:✔ Begrüßung mit einem Apérogetränk und Knabbereien✔ Degustation aller Gin-Produkte während des Kurses✔ Ein erfrischender Longdrink während des Workshops \nZum krönenden Abschluss verkosten wir den frisch gebrannten Gin\, und du nimmst ein Fläschchen eurer eigenen Kreation mit nach Hause. \nDAUER: 4 StundenTEILNEHMERZAHL: Unsere Brennworkshops finden in Kleingruppen mit maximal 10 Personen statt.ANFAHRT: Da während des Kurses degustiert wird\, empfehlen wir eine Anreise ohne Auto.\nVORBEREITUNG: Wir empfehlen vor dem Kurs etwas zu Essen. \nFreu dich auf ein einzigartiges Erlebnis voller Aromen\, Handwerkskunst und Genuss! 🍸
URL:https://mattebrennerei.ch/event/gin-brennworkshop-15/
LOCATION:Matte Brennerei\, Mühleplatz 5\, Bern\, 3011\, Switzerland
CATEGORIES:öffentlicher Brenn Workshop
ATTACH;FMTTYPE=image/jpeg:https://mattebrennerei.ch/wp-content/uploads/2018/10/AM305151-scaled-e1754901169290.jpg
ORGANIZER;CN="Matte Brennerei":MAILTO:info@mattebrennerei.ch
END:VEVENT
BEGIN:VEVENT
DTSTART;TZID=Europe/Zurich:20260625T200000
DTEND;TZID=Europe/Zurich:20260625T223000
DTSTAMP:20260424T120911
CREATED:20260114T143418Z
LAST-MODIFIED:20260114T143706Z
UID:10000870-1782417600-1782426600@mattebrennerei.ch
SUMMARY:Gin Experience
DESCRIPTION:Bei unserer Gin Experience lernst du die Matte Brennerei und Ihre Produkte kennen. Wir zeigen dir wie Gin hergestellt wird und mit welchen Botanicals wir arbeiten. Gemeinsam degustieren wir all unsere Gins und du lernst wie man leckere Drinks aus diesen herstellt\, natürlich trinken wir diese auch. \nGIN EXPERIENCE – GIN TASTING – LONGDRINK – COCKTAIL \nDAUER: 2.5 Stunden\nTEILNEHMER: Der Event findet in Kleingruppen statt\, mit bis zu 15 Personen\nANFAHRT: Wir empfehlen nicht mit dem Auto zu kommen.\nVORBEREITUNG: Essen sie vor der Gin Experience etwas.
URL:https://mattebrennerei.ch/event/gin-experience-14/
LOCATION:Matte Brennerei\, Mühleplatz 5\, Bern\, 3011\, Switzerland
CATEGORIES:öffentliche Gin Experience
ATTACH;FMTTYPE=image/jpeg:https://mattebrennerei.ch/wp-content/uploads/2025/07/Matte_Brennerei_Team_Jess.jpg
ORGANIZER;CN="Matte Brennerei":MAILTO:info@mattebrennerei.ch
END:VEVENT
BEGIN:VEVENT
DTSTART;TZID=Europe/Zurich:20260813T200000
DTEND;TZID=Europe/Zurich:20260813T223000
DTSTAMP:20260424T120911
CREATED:20260114T143223Z
LAST-MODIFIED:20260310T133342Z
UID:10000869-1786651200-1786660200@mattebrennerei.ch
SUMMARY:Gin Experience
DESCRIPTION:Bei unserer Gin Experience lernst du die Matte Brennerei und Ihre Produkte kennen. Wir zeigen dir wie Gin hergestellt wird und mit welchen Botanicals wir arbeiten. Gemeinsam degustieren wir all unsere Gins und du lernst wie man leckere Drinks aus diesen herstellt\, natürlich trinken wir diese auch. \nGIN EXPERIENCE – GIN TASTING – LONGDRINK – COCKTAIL \nDAUER: 2.5 Stunden\nTEILNEHMER: Der Event findet in Kleingruppen statt\, mit bis zu 15 Personen\nANFAHRT: Wir empfehlen nicht mit dem Auto zu kommen.\nVORBEREITUNG: Essen sie vor der Gin Experience etwas.
URL:https://mattebrennerei.ch/event/gin-experience-13/
LOCATION:Matte Brennerei\, Mühleplatz 5\, Bern\, 3011\, Switzerland
CATEGORIES:öffentliche Gin Experience
ATTACH;FMTTYPE=image/jpeg:https://mattebrennerei.ch/wp-content/uploads/2025/07/Matte_Brennerei_Team_Basil_v4.jpg
ORGANIZER;CN="Matte Brennerei":MAILTO:info@mattebrennerei.ch
END:VEVENT
END:VCALENDAR